BEGIN:VCALENDAR
VERSION:2.0
PRODID:-//ETT - ECPv6.15.20//NONSGML v1.0//EN
CALSCALE:GREGORIAN
METHOD:PUBLISH
X-ORIGINAL-URL:https://ett.easyunion.ca
X-WR-CALDESC:Events for ETT
REFRESH-INTERVAL;VALUE=DURATION:PT1H
X-Robots-Tag:noindex
X-PUBLISHED-TTL:PT1H
BEGIN:VTIMEZONE
TZID:UTC
BEGIN:STANDARD
TZOFFSETFROM:+0000
TZOFFSETTO:+0000
TZNAME:UTC
DTSTART:20250101T000000
END:STANDARD
END:VTIMEZONE
BEGIN:VEVENT
DTSTART;TZID=UTC:20260415T163000
DTEND;TZID=UTC:20260415T173000
DTSTAMP:20260424T060754
CREATED:20260407T130246Z
LAST-MODIFIED:20260407T133927Z
UID:8215-1776270600-1776274200@ett.easyunion.ca
SUMMARY:April 15: Join the April 2026 Extended Executive Meeting
DESCRIPTION:On Wednesday\, April 15\, 2026\, ETT members will have the opportunity to join the Extended Executive virtual meeting from 4:30 p.m. – 5:30 p.m. A meeting link will be emailed to registrants prior to the start of the meeting. \n(NOTE: When registering through the Member Portal please be sure your Member profile has been updated\, including your worksite\, secondary email and accommodations and/or dietary restrictions fields.)
URL:https://ett.easyunion.ca/event/april-15-join-the-april-2026-extended-executive-meeting/
LOCATION:ETT Office – 4211 Yonge Street\, Suite 300\, Toronto\, 4211 Yonge Street\, Toronto\, Canada
CATEGORIES:Networking Events
ATTACH;FMTTYPE=image/png:https://ett.easyunion.ca/wp-content/uploads/2026/03/ETT-Extended-Executive-Meeting.png
END:VEVENT
END:VCALENDAR