BEGIN:VCALENDAR
VERSION:2.0
PRODID:-//ETT - ECPv6.15.20//NONSGML v1.0//EN
CALSCALE:GREGORIAN
METHOD:PUBLISH
X-WR-CALNAME:ETT
X-ORIGINAL-URL:https://ett.easyunion.ca
X-WR-CALDESC:Events for ETT
REFRESH-INTERVAL;VALUE=DURATION:PT1H
X-Robots-Tag:noindex
X-PUBLISHED-TTL:PT1H
BEGIN:VTIMEZONE
TZID:UTC
BEGIN:STANDARD
TZOFFSETFROM:+0000
TZOFFSETTO:+0000
TZNAME:UTC
DTSTART:20250101T000000
END:STANDARD
END:VTIMEZONE
BEGIN:VEVENT
DTSTART;TZID=UTC:20260415T163000
DTEND;TZID=UTC:20260415T173000
DTSTAMP:20260424T001006
CREATED:20260407T130246Z
LAST-MODIFIED:20260407T133927Z
UID:8215-1776270600-1776274200@ett.easyunion.ca
SUMMARY:April 15: Join the April 2026 Extended Executive Meeting
DESCRIPTION:On Wednesday\, April 15\, 2026\, ETT members will have the opportunity to join the Extended Executive virtual meeting from 4:30 p.m. – 5:30 p.m. A meeting link will be emailed to registrants prior to the start of the meeting. \n(NOTE: When registering through the Member Portal please be sure your Member profile has been updated\, including your worksite\, secondary email and accommodations and/or dietary restrictions fields.)
URL:https://ett.easyunion.ca/event/april-15-join-the-april-2026-extended-executive-meeting/
LOCATION:ETT Office – 4211 Yonge Street\, Suite 300\, Toronto\, 4211 Yonge Street\, Toronto\, Canada
CATEGORIES:Networking Events
ATTACH;FMTTYPE=image/png:https://ett.easyunion.ca/wp-content/uploads/2026/03/ETT-Extended-Executive-Meeting.png
END:VEVENT
BEGIN:VEVENT
DTSTART;TZID=UTC:20260330T164500
DTEND;TZID=UTC:20260330T190000
DTSTAMP:20260424T001006
CREATED:20260311T151515Z
LAST-MODIFIED:20260320T134113Z
UID:1188-1774889100-1774897200@ett.easyunion.ca
SUMMARY:March 2026 Pregnancy\, Parental & Extended Parental Leave Workshop
DESCRIPTION:ETT will be hosting a workshop on pregnancy\, parental\, and extended parental leave on various dates throughout the school year. \nWorkshop Date:\nMonday\, March 30\, 2026\, 4:45 pm – 7:00 pm \nVenue: ETT Office (4211 Yonge Street\, Suite 300\, Toronto)\nPaid parking until 5 pm \n\nTopics of discussion will include: \n\nPregnancy and Parental Leave\nEmployment Insurance\nForms & Letters\nSupplemental Employment Benefits (SEB)\nExtended Parental Leaves\nQ&A Session\n\nNotes\n\nThis session is in person. Remaining sessions will take place in April and June 2026. If you are unable to attend an in-person session\, please reach out to your Executive Officer for support.\nDue to capacity concerns\, this session is for ETT members only\nPlease indicate if you are the Birthing Parent OR Non-Birthing Parent in the Notes section\n\nContact Information\n\nFor any questions or accommodations email Roz Geridis (rgeridis@ett.on.ca)
URL:https://ett.easyunion.ca/event/march-2026-pregnancy-parental-extended-parental-leave-workshop/
LOCATION:ETT Office – 4211 Yonge Street\, Suite 300\, Toronto\, 4211 Yonge Street\, Toronto\, Canada
CATEGORIES:Events & Meetings,Training Workshops
ATTACH;FMTTYPE=image/jpeg:https://ett.easyunion.ca/wp-content/uploads/2026/03/Pregnancy-and-Parental-730-365-1-730x365-1.jpg
END:VEVENT
BEGIN:VEVENT
DTSTART;TZID=UTC:20260314T160000
DTEND;TZID=UTC:20260314T170000
DTSTAMP:20260424T001006
CREATED:20260304T214807Z
LAST-MODIFIED:20260318T150306Z
UID:210-1773504000-1773507600@ett.easyunion.ca
SUMMARY:Test Event
DESCRIPTION:This is a test event.
URL:https://ett.easyunion.ca/event/test-event/
LOCATION:City Hall\, Toronto\, Toronto\, ON\, Canada
CATEGORIES:Events & Meetings
ATTACH;FMTTYPE=image/png:https://ett.easyunion.ca/wp-content/uploads/2026/03/0f5695af4239affe14ae5a77078c06b0e7397985.png
END:VEVENT
END:VCALENDAR